BEGIN:VCALENDAR
VERSION:2.0
PRODID:-//Tukios.com/
BEGIN:VEVENT
UID:c92f1d69-4a91-4731-9bbe-20ef955ab4c4@www.wellsfuneralhome.com
DTSTAMP:20260424T224855Z
DTSTART:20260429T150000Z
DTEND:20260429T160000Z
SUMMARY:Funeral Service
DESCRIPTION:
URL:https://www.wellsfuneralhome.com/obituaries/mary-mcelrath
LOCATION:Wells Funeral Home of Canton 3715 Asheville Hwy  Canton NC 28716
GEO:35.5339501;-82.8313699
END:VEVENT
END:VCALENDAR