BEGIN:VCALENDAR
VERSION:2.0
PRODID:-//Tukios.com/
BEGIN:VEVENT
UID:5937dc26-0088-43dc-8586-4080564ceaa0@www.wellsfuneralhome.com
DTSTAMP:20260424T224408Z
DTSTART:20260429T140000Z
DTEND:20260429T150000Z
SUMMARY:Visitation
DESCRIPTION:
URL:https://www.wellsfuneralhome.com/obituaries/mary-mcelrath
LOCATION:Wells Funeral Home of Canton 3715 Asheville Hwy  Canton NC 28716
GEO:35.5339501;-82.8313699
END:VEVENT
END:VCALENDAR