BEGIN:VCALENDAR
VERSION:2.0
PRODID:-//Tukios.com/
BEGIN:VEVENT
UID:0bc7f63e-367e-4d05-aa62-4f6e42f26707@www.wellsfuneralhome.com
DTSTAMP:20260425T235722Z
DTSTART:20260502T170000Z
DTEND:20260502T180000Z
SUMMARY:Visitation
DESCRIPTION:
URL:https://www.wellsfuneralhome.com/obituaries/james-hilliard-bradshaw
LOCATION:Crabtree United Methodist Church 5405 Crabtree Rd  Clyde NC 
	28721
GEO:35.591589;-82.939337
END:VEVENT
END:VCALENDAR