BEGIN:VCALENDAR
VERSION:2.0
PRODID:-//Tukios.com/
BEGIN:VEVENT
UID:8eba572f-6ee6-47bc-afe9-774a8a7b4746@www.wellsfuneralhome.com
DTSTAMP:20260425T235545Z
DTSTART:20260502T180000Z
DTEND:20260502T190000Z
SUMMARY:Memorial Service
DESCRIPTION:
URL:https://www.wellsfuneralhome.com/obituaries/james-hilliard-bradshaw
LOCATION:Crabtree United Methodist Church 5405 Crabtree Rd  Clyde NC 
	28721
GEO:35.591589;-82.939337
END:VEVENT
END:VCALENDAR